BEGIN:VCALENDAR
VERSION:2.0
PRODID:-//eventon.com NONSGML v1.0//EN
CALSCALE:GREGORIAN
METHOD:PUBLISH
BEGIN:VEVENT
UID:69e76818b1a53
DTSTAMP:20260421T120544Z
DTSTART:20241101T220000Z
DTEND:20241102T065000Z
LOCATION:Activities Pod at Costanoa 2001 Rossi Road
SUMMARY:SUGAR SKULL DECORATING
DESCRIPTION:Decorate own Dia De Los Muertos Sugar Skull! Join us to decorat
 e a sugar skull\,  one of the traditional elements of a Dia De Los Muertos 
 ofrenda. We&#8217;ll have everything you need to create a colorful skull to
  take home and/or add to our community ofrenda! TIME:  3:00pm &#8211; 4:00
 pm[..]\nhttps://www.costanoa.com/blog/events/sugar-skull-decorating/
URL:https://www.costanoa.com/blog/events/sugar-skull-decorating/
END:VEVENT
END:VCALENDAR