BEGIN:VCALENDAR
VERSION:2.0
PRODID:-//eventon.com NONSGML v1.0//EN
CALSCALE:GREGORIAN
METHOD:PUBLISH
BEGIN:VEVENT
UID:69e62351d2f09
DTSTAMP:20260420T130001Z
DTSTART:20241109T203000Z
DTEND:20241109T223000Z
LOCATION:Activities at Costanoa 2001 Rossi Road
SUMMARY:Tie Dye
DESCRIPTION:Tie Dye at Costanoa! It wouldn’t be a Central Coast visit wit
 hout a little tie dye awesomeness. Harness your inner hippy and create some
 thing groovy with this tie dye workshop. Purchase apparel and accessories a
 t the Activities Pod and get ready to twist and tie! Weather permitting.  
 TIME:  12:30 am[..]\nhttps://www.costanoa.com/blog/events/tie-dye-11/
URL:https://www.costanoa.com/blog/events/tie-dye-11/
END:VEVENT
END:VCALENDAR