BEGIN:VCALENDAR
VERSION:2.0
PRODID:-//eventon.com NONSGML v1.0//EN
CALSCALE:GREGORIAN
METHOD:PUBLISH
BEGIN:VEVENT
UID:69e4c81b9a83a
DTSTAMP:20260419T121835Z
DTSTART:20241201T183000Z
DTEND:20241201T193000Z
LOCATION:Activities at Costanoa 2001 Rossi Road
SUMMARY:Candle Making
DESCRIPTION:Candle Making Bring home the memory and SCENT of Costanoa in a 
 jar! Make your own candles\,  with your choice of nature-inspired scents. T
 IME: 10:30 am WHERE: Activities Pod (weather permitting) AGES:  Fun for al
 l ages! COST:  $25 per candle\nhttps://www.costanoa.com/blog/events/candle
 -making-5/
URL:https://www.costanoa.com/blog/events/candle-making-5/
END:VEVENT
END:VCALENDAR