BEGIN:VCALENDAR
VERSION:2.0
PRODID:-//eventon.com NONSGML v1.0//EN
CALSCALE:GREGORIAN
METHOD:PUBLISH
BEGIN:VEVENT
UID:69e89dd1b336e
DTSTAMP:20260422T100713Z
DTSTART:20251212T220000Z
DTEND:20251212T230000Z
LOCATION:Activities at Costanoa 2001 Rossi Road
SUMMARY:Holiday Ornament Making
DESCRIPTION:HOLIDAY ORNAMENT MAKING Meet us at the Activities Pod for this 
 fun\,  hands-on activity where participants design and craft their own fest
 ive decorations using materials like ribbons\,  paint pens\,  and maybe eve
 n beads! TIME:  2:00pm WHERE: Activities Pod AGES:  All ages COST: $10 pe
 r ornament\nhttps://www.costanoa.com/blog/events/wooden-ornaments/
URL:https://www.costanoa.com/blog/events/wooden-ornaments/
END:VEVENT
END:VCALENDAR