BEGIN:VCALENDAR
VERSION:2.0
PRODID:-//eventon.com NONSGML v1.0//EN
CALSCALE:GREGORIAN
METHOD:PUBLISH
BEGIN:VEVENT
UID:69e74ebf88c3d
DTSTAMP:20260421T101735Z
DTSTART:20250111T183000Z
DTEND:20250111T203000Z
LOCATION:Activities at Costanoa 2001 Rossi Road
SUMMARY:Journey Sticks
DESCRIPTION:Journey Stick Craft Activity Come decorate your own journey (wa
 lking) stick! We provide a eucalyptus walking stick hand-made by the activi
 ties crew for you to decorate. You may come in before the class to reserve 
 and purchase your stick\,  or purchase day of. Great fun and a wonderful gi
 ft for[..]\nhttps://www.costanoa.com/blog/events/journey-sticks-4/var/ri-1.
 l-L1
URL:https://www.costanoa.com/blog/events/journey-sticks-4/var/ri-1.l-L1
END:VEVENT
END:VCALENDAR