BEGIN:VCALENDAR
VERSION:2.0
PRODID:-//eventon.com NONSGML v1.0//EN
CALSCALE:GREGORIAN
METHOD:PUBLISH
BEGIN:VEVENT
UID:69e5f6a4272c6
DTSTAMP:20260420T094924Z
DTSTART:20250913T013000Z
DTEND:20250913T030000Z
LOCATION:Pine Tent at Costanoa 2001 Rossi Road
SUMMARY:TRIVIA NIGHT
DESCRIPTION:Trivia at Costanoa! Join us for an evening of brain teasing tri
 via! Questions are family friendly and cover every topic under the sun. TIM
 E:  6:30pm WHERE: Pine Tent AGES:  All ages COST:  Free to play!\nhttps:
 //www.costanoa.com/blog/events/trivia-night-2/
URL:https://www.costanoa.com/blog/events/trivia-night-2/
END:VEVENT
END:VCALENDAR