BEGIN:VCALENDAR
VERSION:2.0
PRODID:-//eventon.com NONSGML v1.0//EN
CALSCALE:GREGORIAN
METHOD:PUBLISH
BEGIN:VEVENT
UID:69e74c97db29f
DTSTAMP:20260421T100823Z
DTSTART:20250626T190000Z
DTEND:20250626T200000Z
LOCATION:Activities at Costanoa 2001 Rossi Road
SUMMARY:CANVAS CREATIONS
DESCRIPTION:CANVAS CREATIONS Bring your unique artistic perspective to this
  painting activity! All supplies are provided to create beautiful ocean-ins
 pired works of art. TIME:  12:00pm WHERE: Activities Pod (weather permitti
 ng) AGES:  All ages COST: $15\nhttps://www.costanoa.com/blog/events/canvas
 -creations-11/
URL:https://www.costanoa.com/blog/events/canvas-creations-11/
END:VEVENT
END:VCALENDAR