BEGIN:VCALENDAR
VERSION:2.0
PRODID:-//eventon.com NONSGML v1.0//EN
CALSCALE:GREGORIAN
METHOD:PUBLISH
BEGIN:VEVENT
UID:69e8b1ef48ec2
DTSTAMP:20260422T113303Z
DTSTART:20260201T010000Z
DTEND:20260201T075900Z
LOCATION:Activities Fire Pit 2001 Rossi Rd
SUMMARY:Sunset S'mores
DESCRIPTION:Sunset S&#8217;mores Bring the whole family to make s’mores! 
 Enjoy music\,  our Bar Cart\,  and a warm and delicious treat by the campfi
 re. TIME:  5:00 pm WHERE: Activities Fire Pit (weather permitting) AGES: 
  All ages COST: First s&#8217;more is free. Drink prices vary.\nhttps://www
 .costanoa.com/blog/events/seasonal-sunset-smores-12/
URL:https://www.costanoa.com/blog/events/seasonal-sunset-smores-12/
END:VEVENT
END:VCALENDAR