BEGIN:VCALENDAR
VERSION:2.0
PRODID:-//eventon.com NONSGML v1.0//EN
CALSCALE:GREGORIAN
METHOD:PUBLISH
BEGIN:VEVENT
UID:69e89d6c07a33
DTSTAMP:20260422T100532Z
DTSTART:20250704T203000Z
DTEND:20250704T190000Z
LOCATION:Activities at Costanoa 2001 Rossi Road
SUMMARY:INDEPENDENCE DAY CANVAS CREATIONS
DESCRIPTION:PATRIOTIC PAINTING Bring your artistic skills to this art activ
 ity! All supplies provided to create beautiful works of art in honor of our
  nation&#8217;s birthday. TIME:  1:30pm WHERE: Activities Pod (weather per
 mitting) AGES:  All ages COST: $15\nhttps://www.costanoa.com/blog/events/m
 emorial-day-canvas-creations/
URL:https://www.costanoa.com/blog/events/memorial-day-canvas-creations/
END:VEVENT
END:VCALENDAR