BEGIN:VCALENDAR
VERSION:2.0
PRODID:-//eventon.com NONSGML v1.0//EN
CALSCALE:GREGORIAN
METHOD:PUBLISH
BEGIN:VEVENT
UID:69e60bdb824da
DTSTAMP:20260420T111955Z
DTSTART:20260509T163000Z
DTEND:20260509T173000Z
LOCATION:Activities at Costanoa 2001 Rossi Road
SUMMARY:GEODE CRACKING AND GEM SLUICE
DESCRIPTION:Geode Cracking and Gem Mining Come join us to pan for fossils\,
   crystals and more! Taking pride in local fame\,  we took panning for gold
  and put our own Costanoa twist on it! TIME:  9:30 &#8211; 10:30am WHERE: 
 Activities Pod (weather permitting) COST:  $5-25 &nbsp; &nbsp;\nhttps://ww
 w.costanoa.com/blog/events/geode-cracking-and-gem-sluice-11/
URL:https://www.costanoa.com/blog/events/geode-cracking-and-gem-sluice-11/
END:VEVENT
END:VCALENDAR