BEGIN:VCALENDAR
VERSION:2.0
PRODID:-//eventon.com NONSGML v1.0//EN
CALSCALE:GREGORIAN
METHOD:PUBLISH
BEGIN:VEVENT
UID:69e89dbe35e68
DTSTAMP:20260422T100654Z
DTSTART:20250708T173000Z
DTEND:20250708T183000Z
LOCATION:Activities at Costanoa 2001 Rossi Road
SUMMARY:BEADED BRACELET MAKING
DESCRIPTION:BEADED BRACELETS MAKING Come create a fun\,  colorful beaded br
 acelet for yourself or to share with someone you love&#8230;or even for you
 r pet! TIME:  10:30 am WHERE: Activities Pod AGES:  All ages COST: $10\nh
 ttps://www.costanoa.com/blog/events/beaded-bracelet-making-2/
URL:https://www.costanoa.com/blog/events/beaded-bracelet-making-2/
END:VEVENT
END:VCALENDAR