BEGIN:VCALENDAR
VERSION:2.0
PRODID:-//eventon.com NONSGML v1.0//EN
CALSCALE:GREGORIAN
METHOD:PUBLISH
BEGIN:VEVENT
UID:69e89c26f2372
DTSTAMP:20260422T100006Z
DTSTART:20260417T210000Z
DTEND:20260417T210000Z
LOCATION:Activities at Costanoa 2001 Rossi Road
SUMMARY:JEWELRY MAKING
DESCRIPTION:JEWELRY MAKING Come create some fun\,  colorful beaded jewelry 
 for yourself or to share with someone you love. Offerings include various b
 racelets\,  necklaces\,  and earrings! TIME:  2:00 pm WHERE: Activities Po
 d AGES:  All ages COST: $10 (includes 3 items)\nhttps://www.costanoa.com/b
 log/events/beaded-bracelet-making-3/var/ri-2.l-L1
URL:https://www.costanoa.com/blog/events/beaded-bracelet-making-3/var/ri-2.l-L1
END:VEVENT
END:VCALENDAR