BEGIN:VCALENDAR
VERSION:2.0
PRODID:-//eventon.com NONSGML v1.0//EN
CALSCALE:GREGORIAN
METHOD:PUBLISH
BEGIN:VEVENT
UID:69eb2975ccc73
DTSTAMP:20260424T082733Z
DTSTART:20260424T210000Z
DTEND:20260424T210000Z
LOCATION:Activities at Costanoa 2001 Rossi Road
SUMMARY:JEWELRY MAKING
DESCRIPTION:JEWELRY MAKING Come create some fun\,  colorful beaded jewelry 
 for yourself or to share with someone you love. Offerings include various b
 racelets\,  necklaces\,  and earrings! TIME:  2:00 pm WHERE: Activities Po
 d AGES:  All ages COST: $10 (includes 3 items)\nhttps://www.costanoa.com/e
 vents/beaded-bracelet-making-3/var/ri-3.l-L1
URL:https://www.costanoa.com/events/beaded-bracelet-making-3/var/ri-3.l-L1
END:VEVENT
END:VCALENDAR