BEGIN:VCALENDAR
VERSION:2.0
PRODID:-//eventon.com NONSGML v1.0//EN
CALSCALE:GREGORIAN
METHOD:PUBLISH
BEGIN:VEVENT
UID:69e62c9f70442
DTSTAMP:20260420T133943Z
DTSTART:20260521T160000Z
DTEND:20260521T233000Z
LOCATION:Activities at Costanoa 2001 Rossi Road
SUMMARY:GEODE CRACKING AND GEM MINING
DESCRIPTION:Geode Cracking and Gem Mining Come join us to pan for fossils\,
   crystals and more! Taking pride in local fame\,  we took panning for gold
  and put our own Costanoa twist on it! TIME:  9:00am &#8211; 4:30pm WHERE:
  Activities Pod (weather permitting) AGES:  All ages COST:  $5-25 &nbsp; 
 &nbsp;\nhttps://www.costanoa.com/blog/events/geode-cracking-and-gem-mining-
 copy/var/ri-2.l-L1
URL:https://www.costanoa.com/blog/events/geode-cracking-and-gem-mining-copy/var/ri-2.l-L1
END:VEVENT
END:VCALENDAR