BEGIN:VCALENDAR
VERSION:2.0
PRODID:-//eventon.com NONSGML v1.0//EN
CALSCALE:GREGORIAN
METHOD:PUBLISH
BEGIN:VEVENT
UID:69e4c6a346151
DTSTAMP:20260419T121219Z
DTSTART:20250711T170000Z
DTEND:20250712T060000Z
LOCATION:Activities at Costanoa 2001 Rossi Road
SUMMARY:Candle Crafting
DESCRIPTION:Candle Crafting Bring home the memory and SCENT of Costanoa in 
 a jar! Make your own candles\,  with your choice of nature-inspired scents.
  TIME: 10:00 am WHERE: Activities Pod (weather permitting) AGES:  Fun for 
 all ages! COST:  $25 per candle\nhttps://www.costanoa.com/blog/events/cand
 le-crafting/
URL:https://www.costanoa.com/blog/events/candle-crafting/
END:VEVENT
END:VCALENDAR