BEGIN:VCALENDAR
VERSION:2.0
PRODID:-//eventon.com NONSGML v1.0//EN
CALSCALE:GREGORIAN
METHOD:PUBLISH
BEGIN:VEVENT
UID:69e5e0afdeaa0
DTSTAMP:20260420T081543Z
DTSTART:20260402T210000Z
DTEND:20260402T183000Z
LOCATION:Activities at Costanoa 2001 Rossi Road
SUMMARY:SEASHELL PAINTING
DESCRIPTION:SEASHELL PAINTING Transform nature’s treasures into vibrant w
 orks of art\,  as you explore your imagination and bring colorful designs t
 o life. Perfect for all ages\,  it’s a fun\,  relaxing way to connect wit
 h your artistic side by the sea! TIME:  2:00 pm WHERE: Activities Pod (wea
 ther permitting) AGES:  All ages[..]\nhttps://www.costanoa.com/blog/events
 /seashell-painting/
URL:https://www.costanoa.com/blog/events/seashell-painting/
END:VEVENT
END:VCALENDAR