BEGIN:VCALENDAR
VERSION:2.0
PRODID:-//eventon.com NONSGML v1.0//EN
CALSCALE:GREGORIAN
METHOD:PUBLISH
BEGIN:VEVENT
UID:69e4f1eb5dd25
DTSTAMP:20260419T151659Z
DTSTART:20251005T000000Z
DTEND:20251005T030000Z
LOCATION:Activities at Costanoa 2001 Rossi Road
SUMMARY:LIVE MUSIC AT PINE TENT - Pathetic Honey
DESCRIPTION:Join us at Pine Tent for an evening of live music! With drinks 
 and food for purchase\,  this is the perfect booty-shakin&#8217; way to spe
 nd Saturday night at Costanoa.  BAND: Pathetic Honey TIME:  5:00-8:00pm W
 HERE: Pine Tent (weather permitting) AGES:  All ages\nhttps://www.costanoa
 .com/blog/events/live-music-at-pine-tent-pathetic-honey/
URL:https://www.costanoa.com/blog/events/live-music-at-pine-tent-pathetic-honey/
END:VEVENT
END:VCALENDAR