BEGIN:VCALENDAR
VERSION:2.0
PRODID:-//eventon.com NONSGML v1.0//EN
CALSCALE:GREGORIAN
METHOD:PUBLISH
BEGIN:VEVENT
UID:69e5f632645e9
DTSTAMP:20260420T094730Z
DTSTART:20251003T210000Z
DTEND:20251003T230000Z
LOCATION:Activities at Costanoa 2001 Rossi Road
SUMMARY:WAND MAKING
DESCRIPTION:Wand Making Cast a spell of creativity! Design your own magical
  wand using spooky materials like glitter\,  paints\,  and air dry clay&#82
 11;perfect for witches\,  wizards\,  and monsters alike.  TIME:  2:00 pm 
 WHERE: Activities Pod (weather permitting) AGES:  All ages COST: $15 RSVP 
 and pay in advance\nhttps://www.costanoa.com/blog/events/wand-making/
URL:https://www.costanoa.com/blog/events/wand-making/
END:VEVENT
END:VCALENDAR