BEGIN:VCALENDAR
VERSION:2.0
PRODID:-//eventon.com NONSGML v1.0//EN
CALSCALE:GREGORIAN
METHOD:PUBLISH
BEGIN:VEVENT
UID:69e4c973cd9ee
DTSTAMP:20260419T122419Z
DTSTART:20251012T200000Z
DTEND:20251012T230000Z
LOCATION:Activities at Costanoa 2001 Rossi Road
SUMMARY:SPOOKY KEYCHAIN CRAFTING
DESCRIPTION:Spooky Keychain Crafting  Join us for a fun and festive keycha
 in crafting activity! Create your own spooky accessory using colorful beads
 \,  charms\,  and Halloween-inspired designs&#8211;perfect for backpacks\, 
  keys\,  or party favors.    TIME:  1:00 pm WHERE: Activities Pod (weath
 er permitting) AGES:  All ages COST: $10 RSVP and pay in advance\nhttps://
 www.costanoa.com/blog/events/spooky-keychain-crafting/var/ri-1.l-L1
URL:https://www.costanoa.com/blog/events/spooky-keychain-crafting/var/ri-1.l-L1
END:VEVENT
END:VCALENDAR