BEGIN:VCALENDAR
VERSION:2.0
PRODID:-//eventon.com NONSGML v1.0//EN
CALSCALE:GREGORIAN
METHOD:PUBLISH
BEGIN:VEVENT
UID:69e4e14a2bf63
DTSTAMP:20260419T140602Z
DTSTART:20260523T170000Z
DTEND:20260523T180000Z
LOCATION:Pescadero Deck 2001 Rossi Road
SUMMARY:Complimentary Yoga
DESCRIPTION:Complimentary Yoga Class Start your day with a complimentary yo
 ga class right here at Costanoa! Sanitized mats and blocks are provided or 
 you are welcome to bring your own. Non-guests are welcome to join for $10/p
 erson payable at the General Store. TIME:  10:00 am WHERE: Pescadero Deck 
 AGES:  All ages[..]\nhttps://www.costanoa.com/blog/events/complimentary-yo
 ga-85/var/ri-3.l-L1
URL:https://www.costanoa.com/blog/events/complimentary-yoga-85/var/ri-3.l-L1
END:VEVENT
END:VCALENDAR