BEGIN:VCALENDAR
VERSION:2.0
PRODID:-//eventon.com NONSGML v1.0//EN
CALSCALE:GREGORIAN
METHOD:PUBLISH
BEGIN:VEVENT
UID:69e5e18bbd170
DTSTAMP:20260420T081923Z
DTSTART:20260328T223000Z
DTEND:20260328T233000Z
LOCATION:Activities at Costanoa 2001 Rossi Road
SUMMARY:Rainbow Catchers
DESCRIPTION:Rainbow Catchers Create your very own rainbow catchers\,  a fun
  craft with beads and sunlight as your canvas! This is one of our most popu
 lar workshop for kids. TIME: 3:30pm &#8211; 4:30pm WHERE: Activities Pod (w
 eather permitting) AGES:  Fun for all ages COST:  $10-15\nhttps://www.cos
 tanoa.com/blog/events/rainbow-catchers-copy-2/var/ri-3.l-L1
URL:https://www.costanoa.com/blog/events/rainbow-catchers-copy-2/var/ri-3.l-L1
END:VEVENT
END:VCALENDAR