BEGIN:VCALENDAR
VERSION:2.0
PRODID:-//eventon.com NONSGML v1.0//EN
CALSCALE:GREGORIAN
METHOD:PUBLISH
BEGIN:VEVENT
UID:69e622e090920
DTSTAMP:20260420T125808Z
DTSTART:20260426T173000Z
DTEND:20260426T210000Z
LOCATION:Activities at Costanoa 2001 Rossi Road
SUMMARY:Candle Crafting
DESCRIPTION:Candle Crafting Bring home the memory and SCENT of Costanoa in 
 a jar! Make your own candles\,  with your choice of nature-inspired scents.
  TIME: 10:30 am WHERE: Activities Pod (weather permitting) AGES:  Fun for 
 all ages! COST:  $20 per candle\nhttps://www.costanoa.com/blog/events/cand
 le-crafting-2/var/ri-2.l-L1
URL:https://www.costanoa.com/blog/events/candle-crafting-2/var/ri-2.l-L1
END:VEVENT
END:VCALENDAR