BEGIN:VCALENDAR
VERSION:2.0
PRODID:-//eventon.com NONSGML v1.0//EN
CALSCALE:GREGORIAN
METHOD:PUBLISH
BEGIN:VEVENT
UID:69e8d653a606a
DTSTAMP:20260422T140819Z
DTSTART:20260503T160000Z
DTEND:20260503T210000Z
LOCATION:Activities at Costanoa 2001 Rossi Road
SUMMARY:GEODE CRACKING AND GEM MINING
DESCRIPTION:Geode Cracking and Gem Mining Come join us to pan for fossils\,
   crystals and more! Taking pride in local fame\,  we took panning for gold
  and put our own Costanoa twist on it! TIME:  9:00am &#8211; 2:00pm WHERE:
  Activities Pod (weather permitting) AGES:  All ages COST:  Varies &nbsp;
  &nbsp;\nhttps://www.costanoa.com/blog/events/geode-cracking-and-gem-mining
 -copy-4/var/ri-3.l-L1
URL:https://www.costanoa.com/blog/events/geode-cracking-and-gem-mining-copy-4/var/ri-3.l-L1
END:VEVENT
END:VCALENDAR