BEGIN:VCALENDAR
VERSION:2.0
PRODID:-//eventon.com NONSGML v1.0//EN
CALSCALE:GREGORIAN
METHOD:PUBLISH
BEGIN:VEVENT
UID:69e4f28f2a490
DTSTAMP:20260419T151943Z
DTSTART:20260425T180000Z
DTEND:20260425T190000Z
LOCATION:Activities at Costanoa 2001 Rossi Road
SUMMARY:Tie Dye
DESCRIPTION:Tie Dye at Costanoa Harness your inner hippie and create your v
 ery own tie dye t-shirt\,  bandanna\,  or bucket hat with the Costanoa logo
 . Choose your own design and colors to rock!  TIME:  11:00am &#8211; 12:0
 0 pm WHERE: Activities Pod (weather permitting) COST: $10-30\nhttps://www.c
 ostanoa.com/blog/events/tie-dye-15/
URL:https://www.costanoa.com/blog/events/tie-dye-15/
END:VEVENT
END:VCALENDAR