BEGIN:VCALENDAR
VERSION:2.0
PRODID:-//eventon.com NONSGML v1.0//EN
CALSCALE:GREGORIAN
METHOD:PUBLISH
BEGIN:VEVENT
UID:69e6082475e38
DTSTAMP:20260420T110404Z
DTSTART:20260510T170000Z
DTEND:20260510T180000Z
LOCATION:Activities at Costanoa 2001 Rossi Road
SUMMARY:JEWELRY MAKING
DESCRIPTION:JEWELRY MAKING Come create some fun\,  colorful beaded jewelry 
 for yourself or to share with someone you love. Offerings include various b
 racelets\,  necklaces\,  and earrings! TIME:  10:00 am WHERE: Activities P
 od AGES:  All ages COST: $10 (includes 3 items)\nhttps://www.costanoa.com/
 blog/events/jewelry-making-copy/
URL:https://www.costanoa.com/blog/events/jewelry-making-copy/
END:VEVENT
END:VCALENDAR