BEGIN:VCALENDAR
VERSION:2.0
PRODID:-//eventon.com NONSGML v1.0//EN
CALSCALE:GREGORIAN
METHOD:PUBLISH
BEGIN:VEVENT
UID:69e73bb66a5d7
DTSTAMP:20260421T085622Z
DTSTART:20260425T163000Z
DTEND:20260425T173000Z
LOCATION:Activities at Costanoa 2001 Rossi Road
SUMMARY:GEODE CRACKING AND GEM MINING
DESCRIPTION:Geode Cracking and Gem Mining Come join us to pan for fossils\,
   crystals and more! Taking pride in local fame\,  we took panning for gold
  and put our own Costanoa twist on it! TIME:  9:30am &#8211; 10:30am WHERE
 : Activities Pod (weather permitting) AGES:  All ages COST:  Varies &nbsp
 ; &nbsp;\nhttps://www.costanoa.com/blog/events/geode-cracking-and-gem-minin
 g-6/
URL:https://www.costanoa.com/blog/events/geode-cracking-and-gem-mining-6/
END:VEVENT
END:VCALENDAR