BEGIN:VCALENDAR
VERSION:2.0
PRODID:-//eventon.com NONSGML v1.0//EN
CALSCALE:GREGORIAN
METHOD:PUBLISH
BEGIN:VEVENT
UID:69e5f4cb770da
DTSTAMP:20260420T094131Z
DTSTART:20190609T000000Z
DTEND:20190609T030000Z
LOCATION:Pine Tent at Costanoa 2001 Rossi Road
SUMMARY:Live Music with Moshe Vilozny
DESCRIPTION:Live Music with Moshe Vilozny at Pine Tent Moshe V was born in 
 Portland\,  OR and raised in Santa Cruz\,  CA. Spending summers in Israel a
 nd winters throughout Latin America\,  Moshe incorporates his life experien
 ces into original songs steeped in American Roots Music while incorporating
  influences from his world travels.\nhttps://www.costanoa.com/blog/events/l
 ive-music-with-moshe-vilozny/
URL:https://www.costanoa.com/blog/events/live-music-with-moshe-vilozny/
END:VEVENT
END:VCALENDAR