BEGIN:VCALENDAR
VERSION:2.0
PRODID:-//eventon.com NONSGML v1.0//EN
CALSCALE:GREGORIAN
METHOD:PUBLISH
BEGIN:VEVENT
UID:69e4d219db87c
DTSTAMP:20260419T130113Z
DTSTART:20190630T000000Z
DTEND:20190630T030000Z
LOCATION:Pine Tent at Costanoa 2001 Rossi Road
SUMMARY:Live Music with Geoff Allen and Friends
DESCRIPTION:Live Music with Geoff Allen and Friends at Pine Tent Geoff Alle
 n and Mark Binion have been playing together off and on for over 45 years. 
 Both are very experienced musicians\,  and played as opening act\,  and jam
 med with Neil Young a lot in the 1970&#8217;s\,  during the legendary &#822
 0;Bar[..]\nhttps://www.costanoa.com/blog/events/live-music-with-geoff-allen
 -and-friends-2/
URL:https://www.costanoa.com/blog/events/live-music-with-geoff-allen-and-friends-2/
END:VEVENT
END:VCALENDAR