BEGIN:VCALENDAR
VERSION:2.0
PRODID:-//eventon.com NONSGML v1.0//EN
CALSCALE:GREGORIAN
METHOD:PUBLISH
BEGIN:VEVENT
UID:69e607ec23ef2
DTSTAMP:20260420T110308Z
DTSTART:20190713T200000Z
DTEND:20190714T065000Z
LOCATION:Costanoa General Store 2001 Rossi Road
SUMMARY:A Taste of the North Coast Tour
DESCRIPTION:A Taste of the North Coast Tour     Join us for an afternoon 
 of Wine Tasting and Sightseeing north of Costanoa. We will depart Costanoa 
 and take a leisurely drive to Pescadero to enjoy a flight of 4 Wine Varieta
 ls at Sante Arcangeli Tasting Room.  You will have ample[..]\nhttps://www.
 costanoa.com/blog/events/a-taste-of-the-north-coast-tour-4/
URL:https://www.costanoa.com/blog/events/a-taste-of-the-north-coast-tour-4/
END:VEVENT
END:VCALENDAR