BEGIN:VCALENDAR
VERSION:2.0
PRODID:-//eventon.com NONSGML v1.0//EN
CALSCALE:GREGORIAN
METHOD:PUBLISH
BEGIN:VEVENT
UID:69e4c89a3bc13
DTSTAMP:20260419T122042Z
DTSTART:20200411T200000Z
DTEND:20200412T065000Z
LOCATION:Costanoa General Store 2001 Rossi Road
SUMMARY:North Coast Sightseeing & Wine Tasting Tour
DESCRIPTION:North Coast Sightseeing &amp; Wine Tasting Tour   Join us for 
 an afternoon of Wine Tasting and Sightseeing north of Costanoa. We will dep
 art Costanoa and take a leisurely drive to Pescadero to enjoy a flight of 4
  Wine Varietals at Sante Arcangeli Tasting Room.  You will have ample time
 [..]\nhttps://www.costanoa.com/blog/events/a-taste-of-the-north-coast-tour-
 12/
URL:https://www.costanoa.com/blog/events/a-taste-of-the-north-coast-tour-12/
END:VEVENT
END:VCALENDAR