BEGIN:VCALENDAR
VERSION:2.0
PRODID:-//eventon.com NONSGML v1.0//EN
CALSCALE:GREGORIAN
METHOD:PUBLISH
BEGIN:VEVENT
UID:69eb29155128f
DTSTAMP:20260424T082557Z
DTSTART:20200620T200000Z
DTEND:20200621T065000Z
LOCATION:Costanoa General Store 2001 Rossi Road
SUMMARY:North Coast Sightseeing & Wine Tasting Tour
DESCRIPTION:North Coast Sightseeing &amp; Wine Tasting Tour     Join us f
 or an afternoon of Wine Tasting and Sightseeing north of Costanoa. We will 
 depart Costanoa and take a leisurely drive to Pescadero to enjoy a flight o
 f 4 Wine Varietals at Sante Arcangeli Tasting Room.  You will have ample[.
 .]\nhttps://www.costanoa.com/events/a-taste-of-the-north-coast-tour-21/
URL:https://www.costanoa.com/events/a-taste-of-the-north-coast-tour-21/
END:VEVENT
END:VCALENDAR