BEGIN:VCALENDAR
VERSION:2.0
PRODID:-//eventon.com NONSGML v1.0//EN
CALSCALE:GREGORIAN
METHOD:PUBLISH
BEGIN:VEVENT
UID:69e765e00d096
DTSTAMP:20260421T115616Z
DTSTART:20220507T230000Z
DTEND:20220508T020000Z
LOCATION:Pine Tent at Costanoa 2001 Rossi Road
SUMMARY:Live Music with Shotgun Suitor
DESCRIPTION:Live Music with Shotgun Suitor at Pine Tent Shotgun Suitor is a
  soulful\,  gritty\,  earthy\,  country raw\,  and danceable as a quartet f
 eaturing four-part harmony with Chas Crowder (rhythm guitar\,  harmonica)\,
   Scott Polland (‘lectric guitar)\,  David Clark (drums)\,  and Diana Wel
 ls (standup and electric bass) singing unapologetic originals and covers[..
 ]\nhttps://www.costanoa.com/blog/events/live-music-with-shotgun-suitor/
URL:https://www.costanoa.com/blog/events/live-music-with-shotgun-suitor/
END:VEVENT
END:VCALENDAR