BEGIN:VCALENDAR
VERSION:2.0
PRODID:-//eventon.com NONSGML v1.0//EN
CALSCALE:GREGORIAN
METHOD:PUBLISH
BEGIN:VEVENT
UID:69e6347469439
DTSTAMP:20260420T141308Z
DTSTART:20220507T180000Z
DTEND:20220507T190000Z
LOCATION:Activities at Costanoa 2001 Rossi Road
SUMMARY:BIRDWATCHING with Dale
DESCRIPTION:BIRDWATCHING with our very own Dale Nelson Join Dale as he prov
 ides us with an informative presentation on our feathered friends here at C
 ostanoa. After the presentation\,  guests will embark on a birdwatching tou
 r to spot and identify birds. Bring your binoculars if you have them\,  clo
 thing for variable weather\, [..]\nhttps://www.costanoa.com/blog/events/bir
 dwatching-with-dale/
URL:https://www.costanoa.com/blog/events/birdwatching-with-dale/
END:VEVENT
END:VCALENDAR