BEGIN:VCALENDAR
VERSION:2.0
PRODID:-//eventon.com NONSGML v1.0//EN
CALSCALE:GREGORIAN
METHOD:PUBLISH
BEGIN:VEVENT
UID:69e4edf69a3de
DTSTAMP:20260419T150006Z
DTSTART:20220507T160000Z
DTEND:20220507T170000Z
LOCATION:Activities at Costanoa 2001 Rossi Road
SUMMARY:MOTHER'S DAY CRAFT
DESCRIPTION:MOTHER&#8217;S DAY CRAFT! Come and join us for a pre-selected c
 raft surprise\,  just for Mom. Kids can add their own creative touches\,  f
 lair\,  and personal message to help celebrate Mother&#8217;s Day here at C
 ostanoa! TIME:  9 am (weather permitting) WHERE: Activities Pod AGES:  Al
 l ages COST: Free for registered guests\nhttps://www.costanoa.com/blog/even
 ts/mothers-day-craft/
URL:https://www.costanoa.com/blog/events/mothers-day-craft/
END:VEVENT
END:VCALENDAR