BEGIN:VCALENDAR
VERSION:2.0
PRODID:-//eventon.com NONSGML v1.0//EN
CALSCALE:GREGORIAN
METHOD:PUBLISH
BEGIN:VEVENT
UID:69e7628f7a2c6
DTSTAMP:20260421T114207Z
DTSTART:20220612T000000Z
DTEND:20220612T030000Z
LOCATION:Pine Tent at Costanoa 2001 Rossi Road
SUMMARY:Live Music with the Summit Sisters
DESCRIPTION:Live Music with the Summit Sisters at Pine Tent Hot tunes from 
 the 60&#8217;s to today\,  this group of talented women banded together fro
 m their Santa Cruz mountain homesteads and surrounding areas. They perform 
 sweet harmonies supported by guitars\,  bass\,  flute and a trunk load of p
 ercussion! Their rhythm is[..]\nhttps://www.costanoa.com/blog/events/live-m
 usic-with-the-summit-sisters/
URL:https://www.costanoa.com/blog/events/live-music-with-the-summit-sisters/
END:VEVENT
END:VCALENDAR