BEGIN:VCALENDAR
VERSION:2.0
PRODID:-//eventon.com NONSGML v1.0//EN
CALSCALE:GREGORIAN
METHOD:PUBLISH
BEGIN:VEVENT
UID:69e5e19019c8e
DTSTAMP:20260420T081928Z
DTSTART:20220619T000000Z
DTEND:20220619T030000Z
LOCATION:Pine Tent at Costanoa 2001 Rossi Road
SUMMARY:Live Music with Eurotrash
DESCRIPTION:Live Music with Eurotrash at Pine Tent Based in San Jose\,  Eur
 otrash plays a mix of blues\,  rock and other styles from the 50&#8217;s\, 
  60&#8217;s\,  and 70&#8217;s! &nbsp; &nbsp;\nhttps://www.costanoa.com/blog
 /events/live-music-with-eurotrash/
URL:https://www.costanoa.com/blog/events/live-music-with-eurotrash/
END:VEVENT
END:VCALENDAR