BEGIN:VCALENDAR
VERSION:2.0
PRODID:-//eventon.com NONSGML v1.0//EN
CALSCALE:GREGORIAN
METHOD:PUBLISH
BEGIN:VEVENT
UID:69e74a8dbfc6c
DTSTAMP:20260421T095941Z
DTSTART:20220924T230000Z
DTEND:20220925T020000Z
LOCATION:Pine Tent at Costanoa 2001 Rossi Road
SUMMARY:Live Music with Toby Gray and T Bone Mojo Band
DESCRIPTION:Live Music with Toby Gray and T Bone Mojo Band at Pine Tent Fea
 turing up energy and family friendly fun Americana/Classics – Acoustic mu
 sic. Celebrating the joys and magical powers of music.\nhttps://www.costano
 a.com/blog/events/live-music-with-toby-gray-and-t-bone-mojo-band-2/
URL:https://www.costanoa.com/blog/events/live-music-with-toby-gray-and-t-bone-mojo-band-2/
END:VEVENT
END:VCALENDAR