BEGIN:VCALENDAR
VERSION:2.0
PRODID:-//eventon.com NONSGML v1.0//EN
CALSCALE:GREGORIAN
METHOD:PUBLISH
BEGIN:VEVENT
UID:69e9dd56c7175
DTSTAMP:20260423T085030Z
DTSTART:20220703T000000Z
DTEND:20220703T030000Z
LOCATION:Pine Tent at Costanoa 2001 Rossi Road
SUMMARY:Live Music with Finians Call
DESCRIPTION:Live Music with Finians Call at Pine Tent Finians Call\,  a loc
 al paddy-beat band based in Half Moon Bay\,  has people yearning for the Ir
 eland no matter where they&#8217;re from\,  dancing\,  jigging\,  and occas
 ionally weeping in their beer (but mostly dancing). Playing popular traditi
 onal and popular Irish music.\nhttps://www.costanoa.com/events/live-music-w
 ith-finians-call/
URL:https://www.costanoa.com/events/live-music-with-finians-call/
END:VEVENT
END:VCALENDAR