BEGIN:VCALENDAR
VERSION:2.0
PRODID:-//eventon.com NONSGML v1.0//EN
CALSCALE:GREGORIAN
METHOD:PUBLISH
BEGIN:VEVENT
UID:69e4c38be6d2d
DTSTAMP:20260419T115907Z
DTSTART:20220529T180000Z
DTEND:20220529T190000Z
LOCATION:Activities at Costanoa 2001 Rossi Road
SUMMARY:MEMORIAL DAY CELEBRATION PARADE
DESCRIPTION:Memorial Day Celebration Parade Remember our fallen soldiers by
  participating in our Memorial Day Celebration Parade. Dress up or decorate
  your ride (bike\,  trike\,  wagon\,  scooter\,  etc. &#8211; no cars 🙂 
 with patriotic colors\,  flags\,  and streamers and join us for a parade lo
 op around the property. Lead by our[..]\nhttps://www.costanoa.com/blog/even
 ts/memorial-day-celebration-parade/
URL:https://www.costanoa.com/blog/events/memorial-day-celebration-parade/
END:VEVENT
END:VCALENDAR