BEGIN:VCALENDAR
VERSION:2.0
PRODID:-//eventon.com NONSGML v1.0//EN
CALSCALE:GREGORIAN
METHOD:PUBLISH
BEGIN:VEVENT
UID:69e4c640c2dd1
DTSTAMP:20260419T121040Z
DTSTART:20220530T170000Z
DTEND:20220530T180000Z
LOCATION:Activities at Costanoa 2001 Rossi Road
SUMMARY:BIRDHOUSE PAINTING
DESCRIPTION:BIRDHOUSE PAINTING Come join us in decorating your very own bir
 dhouse for our feathered friends! This is one of our most popular workshops
  for kids.  TIME:  10 am WHERE: Activities Pod AGES:  All ages COST: $20
  per birdhouse\nhttps://www.costanoa.com/blog/events/birdhouse-painting-4/
URL:https://www.costanoa.com/blog/events/birdhouse-painting-4/
END:VEVENT
END:VCALENDAR