BEGIN:VCALENDAR
VERSION:2.0
PRODID:-//eventon.com NONSGML v1.0//EN
CALSCALE:GREGORIAN
METHOD:PUBLISH
BEGIN:VEVENT
UID:69e61fd86fd4d
DTSTAMP:20260420T124512Z
DTSTART:20220614
DTEND:20220615
LOCATION:Costanoa 2001 Rossi Road
SUMMARY:Flag Day
DESCRIPTION:Flag Day On this date in 1777\,  the Second Continental Congres
 s adopted the flag of the United States\nhttps://www.costanoa.com/blog/even
 ts/flag-day/
URL:https://www.costanoa.com/blog/events/flag-day/
END:VEVENT
END:VCALENDAR