BEGIN:VCALENDAR
VERSION:2.0
PRODID:-//eventon.com NONSGML v1.0//EN
CALSCALE:GREGORIAN
METHOD:PUBLISH
BEGIN:VEVENT
UID:69e5f3cf4239d
DTSTAMP:20260420T093719Z
DTSTART:20220613T180000Z
DTEND:20220613T190000Z
LOCATION:Activities at Costanoa 2001 Rossi Road
SUMMARY:WIND CATCHER BEADING CRAFT
DESCRIPTION:WIND CATCHER BEADING CRAFT Let your creativity explore spiral b
 eading Wind Catcher designs. These designs can be used to attract birds &am
 p; butterflies while enhancing your garden.  TIME:  11 am WHERE: Activiti
 es Pod AGES:  All ages COST: $15 each\nhttps://www.costanoa.com/blog/event
 s/wind-catcher-beading-craft/var/ri-1.l-L1
URL:https://www.costanoa.com/blog/events/wind-catcher-beading-craft/var/ri-1.l-L1
END:VEVENT
END:VCALENDAR