BEGIN:VCALENDAR
VERSION:2.0
PRODID:-//eventon.com NONSGML v1.0//EN
CALSCALE:GREGORIAN
METHOD:PUBLISH
BEGIN:VEVENT
UID:69e4df98d8491
DTSTAMP:20260419T135848Z
DTSTART:20220728T180000Z
DTEND:20220728T190000Z
LOCATION:Activities at Costanoa 2001 Rossi Road
SUMMARY:POTTING & PAINTING CRAFT
DESCRIPTION:POTTING &amp; PAINTING CRAFT Utilize your planting and painting
  skills in this combined fun activity. You will use clean air indoor plants
  while customizing your pot through paint to blend with your home décor. A
  quick tour of the Costanoa farm area is optional. This is an 1 1/4 hour[..
 ]\nhttps://www.costanoa.com/blog/events/potting-painting-craft-2/
URL:https://www.costanoa.com/blog/events/potting-painting-craft-2/
END:VEVENT
END:VCALENDAR