BEGIN:VCALENDAR
VERSION:2.0
PRODID:-//eventon.com NONSGML v1.0//EN
CALSCALE:GREGORIAN
METHOD:PUBLISH
BEGIN:VEVENT
UID:69e626fe1dab1
DTSTAMP:20260420T131542Z
DTSTART:20220725T180000Z
DTEND:20220725T190000Z
LOCATION:Activities at Costanoa 2001 Rossi Road
SUMMARY:STENCILING CRAFT
DESCRIPTION:STENCIL a CANVAS BACKPACK or COSTANOA TOTE BAG Come with your p
 assion for color and patterns. We will be stenciling our Costanoa Tote Bags
  and Canvas Backpacks!  TIME:  11 am WHERE: Activities Pod AGES:  All ag
 es COST: $20 per Canvas Backpack\,  $15 per Tote Bag\nhttps://www.costanoa.
 com/blog/events/stenciling-craft-3/var/ri-1.l-L1
URL:https://www.costanoa.com/blog/events/stenciling-craft-3/var/ri-1.l-L1
END:VEVENT
END:VCALENDAR