BEGIN:VCALENDAR
VERSION:2.0
PRODID:-//eventon.com NONSGML v1.0//EN
CALSCALE:GREGORIAN
METHOD:PUBLISH
BEGIN:VEVENT
UID:69e4df6b1a7a0
DTSTAMP:20260419T135803Z
DTSTART:20221008T013000Z
DTEND:20221008T023000Z
LOCATION:Pine Tent at Costanoa 2001 Rossi Road
SUMMARY:WINE TASTING in the PINE TENT LOUNGE
DESCRIPTION:WINE TASTING in the PINE TENT LOUNGE Experience a taste of the 
 Santa Cruz Mountains and northern coastal wines which are featured here at 
 Costanoa. We will present a wine flight of 5-6 wines\,  with a cheese board
  and crudités for nibbles. You will receive a 10% discount on all[..]\nhtt
 ps://www.costanoa.com/blog/events/wine-tasting-in-the-pine-tent-lounge-4/
URL:https://www.costanoa.com/blog/events/wine-tasting-in-the-pine-tent-lounge-4/
END:VEVENT
END:VCALENDAR