BEGIN:VCALENDAR
VERSION:2.0
PRODID:-//eventon.com NONSGML v1.0//EN
CALSCALE:GREGORIAN
METHOD:PUBLISH
BEGIN:VEVENT
UID:69e76669cd83e
DTSTAMP:20260421T115833Z
DTSTART:20220724T170000Z
DTEND:20220724T183000Z
LOCATION:Activities at Costanoa 2001 Rossi Road
SUMMARY:Falconry Presentation with Kenny Elvin
DESCRIPTION:Falconry Presentation with Kenny Elvin Enjoy a morning of fligh
 t presentations\,  natural history and the chance to meet Hawks\,  Falcons\
 ,  Owls and more up close and personal. The show lasts about 40 minutes. Af
 ter the demonstration\,  Kenny will hang out and answer questions\,  and fo
 lks can take pictures of a[..]\nhttps://www.costanoa.com/blog/events/falcon
 ry-presentation-14/var/ri-1.l-L1
URL:https://www.costanoa.com/blog/events/falconry-presentation-14/var/ri-1.l-L1
END:VEVENT
END:VCALENDAR