BEGIN:VCALENDAR
VERSION:2.0
PRODID:-//eventon.com NONSGML v1.0//EN
CALSCALE:GREGORIAN
METHOD:PUBLISH
BEGIN:VEVENT
UID:69e622c331436
DTSTAMP:20260420T125739Z
DTSTART:20220714T190000Z
DTEND:20220714T200000Z
LOCATION:Activities at Costanoa 2001 Rossi Road
SUMMARY:POTTING & PAINTING CRAFT
DESCRIPTION:POTTING &amp; PAINTING CRAFT Utilize your planting and painting
  skills in this combined fun activity. You will use clean air indoor plants
  while customizing your pot through paint to blend with your home décor. A
  quick tour of the Costanoa farm area is included. This is an 1 1/4 hour[..
 ]\nhttps://www.costanoa.com/blog/events/potting-painting-craft-3/
URL:https://www.costanoa.com/blog/events/potting-painting-craft-3/
END:VEVENT
END:VCALENDAR