BEGIN:VCALENDAR
VERSION:2.0
PRODID:-//eventon.com NONSGML v1.0//EN
CALSCALE:GREGORIAN
METHOD:PUBLISH
BEGIN:VEVENT
UID:69e4c73e2a65a
DTSTAMP:20260419T121454Z
DTSTART:20221108
DTEND:20221109
LOCATION:Costanoa 2001 Rossi Road
SUMMARY:FULL MOON
DESCRIPTION:FULL MOON is at 3:02 am according to NASA. Named the Beaver Moo
 n Most of the time\,  the full moon isn&#8217;t perfectly full. We always s
 ee the same side of the moon\,  but part of it is in shadow\,  due to the 
 moon&#8217;s rotation. Only when the moon\,  Earth and the[..]\nhttps://www
 .costanoa.com/blog/events/full-moon-4/
URL:https://www.costanoa.com/blog/events/full-moon-4/
END:VEVENT
END:VCALENDAR