BEGIN:VCALENDAR
VERSION:2.0
PRODID:-//eventon.com NONSGML v1.0//EN
CALSCALE:GREGORIAN
METHOD:PUBLISH
BEGIN:VEVENT
UID:69e4c7b9d7a80
DTSTAMP:20260419T121657Z
DTSTART:20220717
DTEND:20220718
LOCATION:Costanoa 2001 Rossi Road
SUMMARY:NATIONAL ICE CREAM DAY
DESCRIPTION:NATIONAL ICE CREAM DAY National Ice Cream Day was created by Pr
 esident Ronald Reagan in 1984. Reagan wanted to commemorate a treat enjoye
 d by over 90% of the US population\,  so he decreed a month and a day for
  ice cream\nhttps://www.costanoa.com/blog/events/national-ice-cream-day/
URL:https://www.costanoa.com/blog/events/national-ice-cream-day/
END:VEVENT
END:VCALENDAR