BEGIN:VCALENDAR
VERSION:2.0
PRODID:-//eventon.com NONSGML v1.0//EN
CALSCALE:GREGORIAN
METHOD:PUBLISH
BEGIN:VEVENT
UID:69e9e19fae0d9
DTSTAMP:20260423T090847Z
DTSTART:20220813T180000Z
DTEND:20220813T190100Z
LOCATION:Activities at Costanoa 2001 Rossi Road
SUMMARY:BIRDWATCHING with DALE
DESCRIPTION:BIRDWATCHING with our very own Dale Nelson Join Dale as he prov
 ides us with an informative presentation on our feathered friends here at C
 ostanoa. After the presentation\,  guests will embark on a birdwatching tou
 r to spot and identify birds. Bring your binoculars if you have them\,  clo
 thing for variable weather\, [..]\nhttps://www.costanoa.com/events/birdwatc
 hing-with-dale-2/
URL:https://www.costanoa.com/events/birdwatching-with-dale-2/
END:VEVENT
END:VCALENDAR